BEGIN:VCALENDAR
VERSION:2.0
PRODID:-//castellonarena - ECPv6.15.14//NONSGML v1.0//EN
CALSCALE:GREGORIAN
METHOD:PUBLISH
X-ORIGINAL-URL:https://castellonarena.com
X-WR-CALDESC:Eventos para castellonarena
REFRESH-INTERVAL;VALUE=DURATION:PT1H
X-Robots-Tag:noindex
X-PUBLISHED-TTL:PT1H
BEGIN:VTIMEZONE
TZID:UTC
BEGIN:STANDARD
TZOFFSETFROM:+0000
TZOFFSETTO:+0000
TZNAME:UTC
DTSTART:20240101T000000
END:STANDARD
END:VTIMEZONE
BEGIN:VEVENT
DTSTART;VALUE=DATE:20250606
DTEND;VALUE=DATE:20250609
DTSTAMP:20260419T201957
CREATED:20250120T185606Z
LAST-MODIFIED:20250611T101314Z
UID:9822-1749168000-1749427199@castellonarena.com
SUMMARY:LIGA MAPFRE TENIS PLAYA CASTELLÓN
DESCRIPTION:INSCRIPCIONES CERRADAS \nPincha en cada apartado para que se despliegue toda la información. \n\nCÓMO REALIZAR LA INSCRIPCIÓN Y EL PAGO \nInscríbete rellenando el siguiente formulario:\nhttps://forms.gle/9tvuhmL8biZyWrKBA\n\n\nAMBOS MIEMBROS DE LA PAREJA DEBEN RELLENAR EL FORMULARIO.\nEL PAGO PUEDE HACERLO UNO POR AMBOS Y ENVIAR EL JUSTIFICANTE O CADA UNO SU PARTE.\nPara pagar debes realizar una transferencia bancaria al número ES20 0182 7718 0602 0173 8543 a nombre de Club de Tenis Arena Costa de Azahar.\nHay que enviar el justificante a info@castellonarena.com indicando las categorías elegidas y el jugador/a que efectúa la inscripción\n \n\nLISTADO DE PARTICIPANTES \nListados a cierre de inscripciones\nJUVENILES\nABSOLUTO\nVETERANOS \n \nCUADROS \nSUB14UNISEX\nSUB18FEMENINO\nSUB18MASCULINO\n\nABSOLUTO FEMENINO\nABSOLUTO MASCULINO\nABSOLUTO MIXTO \n+40FEMENINO\n+40MASCULINO\n+40MIXTO \n \nORDEN DE JUEGO \nORDEN DE JUEGO SÁBADO\nORDEN DE JUEGO DOMINGO \n \nFECHA6-8 de junio de 2025 \nLUGARPlaya del Gurugú (frente Aeroclub) en Grao de Castellón  \nHORARIO \nSolamente se jugará el viernes si es estrictamente necesario en la categoria absoluta masculina y femenina por el tamaño de sus cuadros (en función de las inscripciones).\nEn todo caso\, de tener que hacerlo sería lo más tarde posible de la tarde del viernes. \nEl sábado se empezará a las 9.00h para intentar evitar las horas centrales de sol donde la arena quema más. Se estima que se terminará sobre las 20.00h.\nEl domingo se empezará también a las 9.00h y hasta la finalización del torneo. \n \nDISTRIBUCIÓN CATEGORÍAS / DÍAS  \nDomingo se jugarán semifinales y finales.\nSábado 1/16\, 1/8 y 1/4 de final.\nViernes 1/32 de final (si fuera necesario en absoluto masculino y femenino). \n  \n \nCATEGORÍAS Y TAMAÑO MÁXIMO CUADROS \nDOBLES SUB14 UNISEX (16)\nDOBLES SUB18 M/F (16) MIXTO (8)\nABSOLUTO M/F (48) MIXTO (16)\nDOBLES +40 M/F (16) MIXTO (8) \n \nOBSERVACIONES \n+Máximo te puedes inscribir a 2 categorías.\n+Recuerda traer un botellín. Nosotros llevamos un bidón de agua para que podáis rellenarlo.\n+Trae escarpines\, no regaremos las pistas y la arena puede estar muy caliente en esas fechas en las horas centrales del día.\n+No te olvides de ponerte protector solar\, hidratarte bien y llevar gafas y una gorra en la medida de lo posible.\n+El torneo coincide con el FESTIVAL DEL VIENTO. No te lo pierdas! Las playas llenas de actividades \n \nPRECIOS INSCRIPCIÓN \nCATEGORÍAS FEDERADAS\n1ª categoría 25€ / 2ª categoría 20€\n* Precios especiales para abonados a CastellónArena \n \nUBICACIÓN\, CÓMO LLEGAR Y DÓNDE APARCAR \nPINCHA EN ESTE ENLACE PARA LA INFO \n \nOPCIONES PARA COMER Y CENAR EN LA ZONA \nPINCHA EN ESTE ENLACE PARA LA INFO \n \nDÓNDE ALOJARSE  \nHOTEL TURCOSA \nLAS RESERVAS SE HACEN POR EMAIL AL HOTEL\n(JRECEPCION.TURCOSA@HOTELES-SILKEN.COM) \nPRECIOS ESPECIALES PARA LA LIGA MAPFRE. \nWEB OFICIAL:\nhttps://www.hoteles-silken.com/es/hotel-castellon-turcosa/ \n  \nHOTEL BAG \nLAS RESERVAS SE HACEN DIRECTAMENTE AL HOTEL \nPRECIOS ESPECIALES PARA LA LIGA MAPFRE. \nWEB OFICIAL:\nhttps://hotelbagcastellon.com/contacto-con-hotel-bag-castellon \nGRUPO INTELIER (VARIOS HOTELES) \nSE DEBE RESERVAR ONLINE A TRAVÉS DE SU PLATAFORMA DE LA WEB. HAY QUE INDICAR EL CÓDIGOCASTELLONARENA25 PARA TENER UN 10% SOBRE LA MEJOR TARIFA DISPONIBLE. \nDISPONIBLE PARA LOS HOTELES BONAIRE\, ORANGE Y ROSA PARA LA LIGA MAPFRE. \nWEB OFICIAL:\nhttps://www.intelier.com/ \n \nTIMING+ Límite inscripción:lunes 2 junio a las 14.00h  + Publicación cuadros / Publicación orden de juego: miércoles 4 junio a las  22.00h \n  \nEl día del torneo se tendrá que hacer check-in en la carpa de organización con al menos 15 min de anticipación al primer partido que juegues. \nCOLABORADORESAYUNTAMIENTO DE CASTELLÓN – PATRONATO TURISMO CASTELLÓN – PATRONATO DEPORTES CASTELLÓN – ADEPLA – DIPUTACIÓN DE CASTELLÓN – ALPORT  – RFET – FTCV – PINGÜINS – XIOB GRUP – FUNDACIÓN TRINIDAD ALFONSO – ANDACAR 2000 – SIGO- BOCANA\nCOLABORADORES\n \nY no te pierdas el FESTIVAL DEL VIENTO que se organiza ese fin de semana en las PLAYAS DE CASTELLÓN \n\nhttps://castellonarena.com/wp-content/uploads/2025/01/FESTIVAL-DEL-VIENTO-2.mp4\n\n\n 
URL:https://castellonarena.com/evento/liga-mapfre-tenis-playa-castellon
LOCATION:PLAYA DEL GURUGÚ\, Av Ferrandis Salvador S/N\, Castellón\, Castellón\, 12100\, España
CATEGORIES:LIGA MAPFRE,TERMINADO
ATTACH;FMTTYPE=image/jpeg:https://castellonarena.com/wp-content/uploads/2025/01/CARTEL-LIGA-MAPFRE-CASTELLON-scaled.jpg
ORGANIZER;CN="#castellonarena":MAILTO:info@castellonarena.com
END:VEVENT
END:VCALENDAR