BEGIN:VCALENDAR
VERSION:2.0
PRODID:-//castellonarena - ECPv6.15.14//NONSGML v1.0//EN
CALSCALE:GREGORIAN
METHOD:PUBLISH
X-ORIGINAL-URL:https://castellonarena.com
X-WR-CALDESC:Eventos para castellonarena
REFRESH-INTERVAL;VALUE=DURATION:PT1H
X-Robots-Tag:noindex
X-PUBLISHED-TTL:PT1H
BEGIN:VTIMEZONE
TZID:UTC
BEGIN:STANDARD
TZOFFSETFROM:+0000
TZOFFSETTO:+0000
TZNAME:UTC
DTSTART:20240101T000000
END:STANDARD
END:VTIMEZONE
BEGIN:VEVENT
DTSTART;VALUE=DATE:20250405
DTEND;VALUE=DATE:20250407
DTSTAMP:20260420T000022
CREATED:20250210T192616Z
LAST-MODIFIED:20250611T101334Z
UID:9947-1743811200-1743983999@castellonarena.com
SUMMARY:CAMPEONATO AUTONÓMICO TENIS PLAYA COMUNIDAD VALENCIANA (ABSOLUTO)
DESCRIPTION:FECHASábado y domingo 5-6 de abril de 2025 \nLUGARPlaya de la Concha en Oropesa del Mar  \nHORARIO \nDesde las 9.00h hasta las 18.00h aprox \n \nCATEGORÍAS \nSÁBADO\nIndividual M/F\nDobles Absoluto Mixto \nDOMINGO\nDobles Absoluto M/F \n \nOBSERVACIONES \nRecuerda traer un botellín. Nosotros llevamos un bidón de agua para que podáis rellenarlo. \n \nPRECIOS INSCRIPCIÓN \nToda la información en la web de la FTCV donde podrás formalizar la inscripción \n \nTIMINGConsulta toda la información en la web de la FTCV \n  \nEl día del torneo se tendrá que hacer check-in en la carpa de organización con al menos 15 min de anticipación al primer partido que juegues. \nCOLABORADORESAYUNTAMIENTO DE OROPESA DEL MAR – CONCEJALÍA DE DEPORTES DE OROPESA DEL MAR  – ADEPLA – DIPUTACIÓN DE CASTELLÓN – ALPORT/PORTCASTELLÓ  – RFET – FTCV – PINGÜINS – XIOB GRUP – FUNDACIÓN TRINIDAD ALFONSO – ANDACAR 2000
URL:https://castellonarena.com/evento/campeonato-autonomico-tenis-playa-comunidad-valenciana-absoluto
LOCATION:PLAYA DE LA CONCHA\, PLAYA DE LA CONCHA\, OROPESA DEL MAR\, CASTELLÓN\, España
CATEGORIES:CIRCUITO AUTONOMICO,FEDERADO,TERMINADO,TORNEO
ATTACH;FMTTYPE=image/jpeg:https://castellonarena.com/wp-content/uploads/2025/02/CARTEL-CTO-CV-ABSOLUTO.jpg
ORGANIZER;CN="#castellonarena":MAILTO:info@castellonarena.com
END:VEVENT
BEGIN:VEVENT
DTSTART;VALUE=DATE:20250425
DTEND;VALUE=DATE:20250428
DTSTAMP:20260420T000022
CREATED:20250120T185131Z
LAST-MODIFIED:20250611T101324Z
UID:9817-1745539200-1745798399@castellonarena.com
SUMMARY:CAMPEONATO ESPAÑA MAPFRE DE TENIS PLAYA DE JUVENILES Y VETERANOS
DESCRIPTION:VISITA LA PÁGINA OFICIAL\n 
URL:https://castellonarena.com/evento/campeonato-espana-mapfre-de-tenis-playa-de-juveniles-y-veteranos
LOCATION:PLAYA DEL GURUGÚ\, Av Ferrandis Salvador S/N\, Castellón\, Castellón\, 12100\, España
CATEGORIES:CAMPEONATO ESPAÑA,TERMINADO
ATTACH;FMTTYPE=image/jpeg:https://castellonarena.com/wp-content/uploads/2025/01/Campeonato-de-Espana-Mapfre-de-Tenis-Playa-2025-Juveniles-y-Veteranos-scaled.jpg
ORGANIZER;CN="#castellonarena":MAILTO:info@castellonarena.com
END:VEVENT
END:VCALENDAR