BEGIN:VCALENDAR
VERSION:2.0
PRODID:-//castellonarena - ECPv6.15.14//NONSGML v1.0//EN
CALSCALE:GREGORIAN
METHOD:PUBLISH
X-WR-CALNAME:castellonarena
X-ORIGINAL-URL:https://castellonarena.com
X-WR-CALDESC:Eventos para castellonarena
REFRESH-INTERVAL;VALUE=DURATION:PT1H
X-Robots-Tag:noindex
X-PUBLISHED-TTL:PT1H
BEGIN:VTIMEZONE
TZID:UTC
BEGIN:STANDARD
TZOFFSETFROM:+0000
TZOFFSETTO:+0000
TZNAME:UTC
DTSTART:20240101T000000
END:STANDARD
END:VTIMEZONE
BEGIN:VEVENT
DTSTART;VALUE=DATE:20250308
DTEND;VALUE=DATE:20250310
DTSTAMP:20260420T015643
CREATED:20250210T192410Z
LAST-MODIFIED:20250611T101343Z
UID:9944-1741392000-1741564799@castellonarena.com
SUMMARY:CAMPEONATO AUTONÓMICO TENIS PLAYA COMUNIDAD VALENCIANA (JUV Y VET)
DESCRIPTION:  \nFECHASábado y domingo 8-9 de marzo de 2025 \nLUGARPlaya del Gurugú (frente Aeroclub) en Grao de Castellón  \nHORARIO \nDesde las 9.00h hasta las 18.00h aprox \n \nCATEGORÍAS \nSÁBADO\nSub14 Unisex\nSub18 Mixto\n+30 Mixto\n+40 M/F\n+60 M/F \nDOMINGO\nSub18 M/F\n+30 M/F\n+50 M/F \n \nOBSERVACIONES \nRecuerda traer un botellín. Nosotros llevamos un bidón de agua para que podáis rellenarlo. \n \nPRECIOS INSCRIPCIÓN \nToda la información en la web de la FTCV donde podrás formalizar la inscripción \n \nTIMINGConsulta toda la información en la web de la FTCV \n  \nEl día del torneo se tendrá que hacer check-in en la carpa de organización con al menos 15 min de anticipación al primer partido que juegues. \nCOLABORADORESAYUNTAMIENTO DE CASTELLÓN – PATRONATO TURISMO CASTELLÓN – PATRONATO DEPORTES CASTELLÓN – ADEPLA – DIPUTACIÓN DE CASTELLÓN – ALPORT/PORTCASTELLÓ  – RFET – FTCV – PINGÜINS – XIOB GRUP – FUNDACIÓN TRINIDAD ALFONSO – ANDACAR 2000
URL:https://castellonarena.com/evento/campeonato-autonomico-tenis-playa-comunidad-valenciana-juv-y-vet
LOCATION:PLAYA DEL GURUGÚ\, Av Ferrandis Salvador S/N\, Castellón\, Castellón\, 12100\, España
CATEGORIES:CIRCUITO AUTONOMICO,TERMINADO,TORNEO
ATTACH;FMTTYPE=image/jpeg:https://castellonarena.com/wp-content/uploads/2025/02/CARTEL-CTO-CV-JUV-Y-VET.jpg
ORGANIZER;CN="#castellonarena":MAILTO:info@castellonarena.com
END:VEVENT
END:VCALENDAR