BEGIN:VCALENDAR
VERSION:2.0
PRODID:-//castellonarena - ECPv6.15.14//NONSGML v1.0//EN
CALSCALE:GREGORIAN
METHOD:PUBLISH
X-WR-CALNAME:castellonarena
X-ORIGINAL-URL:https://castellonarena.com
X-WR-CALDESC:Eventos para castellonarena
REFRESH-INTERVAL;VALUE=DURATION:PT1H
X-Robots-Tag:noindex
X-PUBLISHED-TTL:PT1H
BEGIN:VTIMEZONE
TZID:UTC
BEGIN:STANDARD
TZOFFSETFROM:+0000
TZOFFSETTO:+0000
TZNAME:UTC
DTSTART:20230101T000000
END:STANDARD
END:VTIMEZONE
BEGIN:VEVENT
DTSTART;TZID=UTC:20240803T173000
DTEND;TZID=UTC:20240803T203000
DTSTAMP:20260420T145752
CREATED:20231129T110342Z
LAST-MODIFIED:20240805T091220Z
UID:8821-1722706200-1722717000@castellonarena.com
SUMMARY:TENIS PLAYA | SUMMER CUP | 3 AGOSTO 2024
DESCRIPTION:Para inscribirte en el torneo haz click en el siguiente botón y se te abrirá una nueva pestaña con nuestro módulo de inscripciones gestionado por Clupik \n MÓDULO DE INSCRIPCIONES \nCUADROS\nPróximamente la info \nORDEN DE JUEGO\nPróximamente la info\n \nSISTEMA DE JUEGO\nPróximamente la info\n \n—————————————————————-————————————- \nFECHASábado 3 de agosto de 2024\nLUGARPlaya del Gurugú de Castellón (frente al Aeroclub)\nHORARIO\nDe 17.30 a 20.30 aprox \n\nCATEGORÍAS\nAmateur Unisex Oro\nAmateur Unisex Plata \n\nOBSERVACIONES\nSe juega una primera ronda con todos los participantes y en función de la clasificación pasas a Oro o Plata. \n\nPRECIOS INSCRIPCIÓN\nAbonados 5€\nNo Abonados 8€ \n  \n\nTIMING+ Límite inscripción: jueves 20.00h  + Publicación cuadros y orden de juego: viernes 20.00h \n  \nEl día del torneo se tendrá que hacer check-in en la carpa de organización con al menos 15 min de anticipación al primer partido que juegues. \nCOLABORADORESCASTELLÓN TURISMO – CASTELLÓN DEPORTES – ADEPLA – DIPUTACIÓN DE CASTELLÓN – ALPORT – DECATHLON CASTELLÓN – RFET – FTCV – PINGÜINS – XIOB GRUP – FUNDACIÓN TRINIDAD ALFONSO
URL:https://castellonarena.com/evento/tenis-playa-open-3-agosto-2024
LOCATION:PLAYA DEL GURUGÚ\, Av Ferrandis Salvador S/N\, Castellón\, Castellón\, 12100\, España
CATEGORIES:OPEN,TERMINADO,TORNEO
ATTACH;FMTTYPE=image/jpeg:https://castellonarena.com/wp-content/uploads/2023/11/CARTEL-SUMMER-CUP-2024-scaled.jpg
ORGANIZER;CN="#castellonarena":MAILTO:info@castellonarena.com
END:VEVENT
BEGIN:VEVENT
DTSTART;TZID=UTC:20240810T173000
DTEND;TZID=UTC:20240810T203000
DTSTAMP:20260420T145752
CREATED:20231129T110459Z
LAST-MODIFIED:20240815T095013Z
UID:8824-1723311000-1723321800@castellonarena.com
SUMMARY:TENIS PLAYA | SUMMER CUP | 10 AGOSTO 2024
DESCRIPTION:
URL:https://castellonarena.com/evento/tenis-playa-open-10-agosto-2024
LOCATION:PLAYA DEL GURUGÚ\, Av Ferrandis Salvador S/N\, Castellón\, Castellón\, 12100\, España
CATEGORIES:OPEN,TERMINADO,TORNEO
ATTACH;FMTTYPE=image/jpeg:https://castellonarena.com/wp-content/uploads/2023/11/CARTEL-SUMMER-CUP-2024-scaled.jpg
ORGANIZER;CN="#castellonarena":MAILTO:info@castellonarena.com
END:VEVENT
BEGIN:VEVENT
DTSTART;TZID=UTC:20240824T173000
DTEND;TZID=UTC:20240824T203000
DTSTAMP:20260420T145752
CREATED:20231129T110722Z
LAST-MODIFIED:20240827T084117Z
UID:8830-1724520600-1724531400@castellonarena.com
SUMMARY:TENIS PLAYA | SUMMER CUP | 24 AGOSTO 2024
DESCRIPTION:Para inscribirte en el torneo contáctanos por WhatsApp al 646 680 056 \nCUADROS\nPróximamente la info \nORDEN DE JUEGO\nPróximamente la info\n \nSISTEMA DE JUEGO\nPróximamente la info\n \n—————————————————————-————————————- \nFECHASábado 24 de agosto de 2024\nLUGARPlaya del Gurugú de Castellón (frente al Aeroclub)\nHORARIO\nDe 17.30 a 20.30 aprox \n\nCATEGORÍAS\nOro y Plata \n\nOBSERVACIONES\nSe juega una primera ronda con todos los participantes y en función de la clasificación pasas a Oro o Plata. \n\nPRECIOS INSCRIPCIÓN\nAbonados 5€\nNo Abonados 8€ \n  \n\nTIMING+ Límite inscripción: viernes 20.00h  + Publicación cuadros y orden de juego: sábado 10.00h \n  \nEl día del torneo se tendrá que hacer check-in en la carpa de organización con al menos 15 min de anticipación al primer partido que juegues. \nCOLABORADORESCASTELLÓN TURISMO – CASTELLÓN DEPORTES – ADEPLA – DIPUTACIÓN DE CASTELLÓN – ALPORT – DECATHLON CASTELLÓN – RFET – FTCV – PINGÜINS – XIOB GRUP – FUNDACIÓN TRINIDAD ALFONSO
URL:https://castellonarena.com/evento/tenis-playa-open-24-agosto-2024
LOCATION:PLAYA DEL GURUGÚ\, Av Ferrandis Salvador S/N\, Castellón\, Castellón\, 12100\, España
CATEGORIES:OPEN,TERMINADO,TORNEO
ATTACH;FMTTYPE=image/jpeg:https://castellonarena.com/wp-content/uploads/2023/11/CARTEL-SUMMER-CUP-2024-scaled.jpg
ORGANIZER;CN="#castellonarena":MAILTO:info@castellonarena.com
END:VEVENT
BEGIN:VEVENT
DTSTART;TZID=UTC:20240831T173000
DTEND;TZID=UTC:20240831T203000
DTSTAMP:20260420T145752
CREATED:20231129T110838Z
LAST-MODIFIED:20240902T075929Z
UID:8833-1725125400-1725136200@castellonarena.com
SUMMARY:TENIS PLAYA | SUMMER CUP | 31 AGOSTO 2024
DESCRIPTION:
URL:https://castellonarena.com/evento/tenis-playa-open-31-agosto-2024
LOCATION:PLAYA DEL GURUGÚ\, Av Ferrandis Salvador S/N\, Castellón\, Castellón\, 12100\, España
CATEGORIES:OPEN,TERMINADO,TORNEO
ATTACH;FMTTYPE=image/jpeg:https://castellonarena.com/wp-content/uploads/2023/11/CARTEL-SUMMER-CUP-2024-scaled.jpg
ORGANIZER;CN="#castellonarena":MAILTO:info@castellonarena.com
END:VEVENT
END:VCALENDAR