BEGIN:VCALENDAR
VERSION:2.0
PRODID:-//castellonarena - ECPv6.15.14//NONSGML v1.0//EN
CALSCALE:GREGORIAN
METHOD:PUBLISH
X-ORIGINAL-URL:https://castellonarena.com
X-WR-CALDESC:Eventos para castellonarena
REFRESH-INTERVAL;VALUE=DURATION:PT1H
X-Robots-Tag:noindex
X-PUBLISHED-TTL:PT1H
BEGIN:VTIMEZONE
TZID:UTC
BEGIN:STANDARD
TZOFFSETFROM:+0000
TZOFFSETTO:+0000
TZNAME:UTC
DTSTART:20230101T000000
END:STANDARD
END:VTIMEZONE
BEGIN:VEVENT
DTSTART;TZID=UTC:20240413T100000
DTEND;TZID=UTC:20240413T100000
DTSTAMP:20260420T221831
CREATED:20231128T183547Z
LAST-MODIFIED:20240424T091611Z
UID:8779-1713002400-1713002400@castellonarena.com
SUMMARY:TENIS PLAYA | OPEN | 13 ABRIL 2024
DESCRIPTION:Para inscribirte en el torneo haz click en el siguiente botón y se te abrirá una nueva pestaña con nuestro módulo de inscripciones gestionado por Clupik \n MÓDULO DE INSCRIPCIONES \nCUADROS\nHabrá 4 grupos: 3 con 3 parejas y 1 con 4 parejas. Se efectuará sorteo público 15 min antes de empezar el torneo en la carpa de organización. \nORDEN DE JUEGO \nSISTEMA DE JUEGO \n—————————————————————————————————– \nFECHASábado 13 de abril de 2024\nLUGARPlaya del Gurugú de Castellón (frente al Aeroclub)\nHORARIO\nDe 10.00 a 13.00h aprox \n\nCATEGORÍAS\nAmateur Unisex Oro\nAmateur Unisex Plata \n\nOBSERVACIONES\nSe juega una primera ronda con todos los participantes y en función de la clasificación pasas a Oro o Plata. \n\nPRECIOS INSCRIPCIÓN\nAbonados 5€\nNo Abonados 8€ \n  \n\nTIMING+ Límite inscripción: jueves 22 febrero 20.00h  + Publicación cuadros y orden de juego: viernes 23 20.00h \n  \nEl día del torneo se tendrá que hacer check-in en la carpa de organización con al menos 15 min de anticipación al primer partido que juegues. \nCOLABORADORESCASTELLÓN TURISMO – CASTELLÓN DEPORTES – ADEPLA – DIPUTACIÓN DE CASTELLÓN – ALPORT – DECATHLON CASTELLÓN – RFET – FTCV – PINGÜINS – XIOB GRUP – FUNDACIÓN TRINIDAD ALFONSO
URL:https://castellonarena.com/evento/open130424
LOCATION:PLAYA DEL GURUGÚ\, Av Ferrandis Salvador S/N\, Castellón\, Castellón\, 12100\, España
CATEGORIES:OPEN,TERMINADO,TORNEO
ATTACH;FMTTYPE=image/jpeg:https://castellonarena.com/wp-content/uploads/2023/11/TORNEO-OPEN-13-ABRIL-2024-scaled.jpg
ORGANIZER;CN="#castellonarena":MAILTO:info@castellonarena.com
END:VEVENT
END:VCALENDAR