BEGIN:VCALENDAR
VERSION:2.0
PRODID:-//castellonarena - ECPv6.15.14//NONSGML v1.0//EN
CALSCALE:GREGORIAN
METHOD:PUBLISH
X-ORIGINAL-URL:https://castellonarena.com
X-WR-CALDESC:Eventos para castellonarena
REFRESH-INTERVAL;VALUE=DURATION:PT1H
X-Robots-Tag:noindex
X-PUBLISHED-TTL:PT1H
BEGIN:VTIMEZONE
TZID:UTC
BEGIN:STANDARD
TZOFFSETFROM:+0000
TZOFFSETTO:+0000
TZNAME:UTC
DTSTART:20220101T000000
END:STANDARD
END:VTIMEZONE
BEGIN:VEVENT
DTSTART;TZID=UTC:20230409T100000
DTEND;TZID=UTC:20230409T130000
DTSTAMP:20260421T194445
CREATED:20230203T094635Z
LAST-MODIFIED:20230910T192505Z
UID:7857-1681034400-1681045200@castellonarena.com
SUMMARY:TENIS PLAYA | TORNEO OPEN | 9 ABRIL 2023
DESCRIPTION:TORNEO OPEN abierto a tod@s. No es necesario disponer de licencia federativa de tenis o tenis playa para participar. \nLas plazas del torneo están limitadas para un correcto desarrollo del mismo al ser un horario reducido de 3 horas de juego. \nFECHA: \nDomingo 9 de abril de 2023 \nHORARIO: \nde 10.00 a 13.00h \nLUGAR: \nPlaya del Gurugú\, Castellón \nCATEGORÍAS (se diferencian por niveles\, no por sexos ni edad): \n+ Única \nLa inscripción se realizará de manera individual y se harán las parejas POR SORTEO \n  \nPRECIO INSCRIPCIONES: \nABONADOS A CASTELLÓNARENA: \nTorneo 5 euros \nNO ABONADOS A CASTELLÓNARENA: \nTorneo 8 euros \nFECHA LÍMITE INSCRIPCIÓN: \nSábado 8 de abril a las 14.00h \n¿CÓMO INSCRIBIRSE? \nA través de nuestra APP (disponible en IOS y Android)\nA través del siguiente enlace: INSCRIBIRME
URL:https://castellonarena.com/evento/tenis-playa-torneo-open-9-abril-2023
LOCATION:PLAYA DEL GURUGÚ\, Av Ferrandis Salvador S/N\, Castellón\, Castellón\, 12100\, España
CATEGORIES:TERMINADO
ATTACH;FMTTYPE=image/jpeg:https://castellonarena.com/wp-content/uploads/2023/02/CARTEL-OPEN-ABRIL-2023-scaled.jpg
ORGANIZER;CN="#castellonarena":MAILTO:info@castellonarena.com
END:VEVENT
BEGIN:VEVENT
DTSTART;VALUE=DATE:20230429
DTEND;VALUE=DATE:20230501
DTSTAMP:20260421T194445
CREATED:20230203T094721Z
LAST-MODIFIED:20230910T192627Z
UID:7859-1682726400-1682899199@castellonarena.com
SUMMARY:TENIS PLAYA | CAMPEONATO AUTONÓMICO CV | 29\,30 ABRIL 2023
DESCRIPTION:Toda la info e inscripciones en www.ftcv.es
URL:https://castellonarena.com/evento/tenis-playa-campeonato-autonomico-cv-2930-abril-2023
LOCATION:PLAYA DEL GURUGÚ\, Av Ferrandis Salvador S/N\, Castellón\, Castellón\, 12100\, España
CATEGORIES:TERMINADO
ATTACH;FMTTYPE=image/jpeg:https://castellonarena.com/wp-content/uploads/2023/02/CARTEL-OFICIAL-AUTONOMICO2-.jpg
ORGANIZER;CN="#castellonarena":MAILTO:info@castellonarena.com
END:VEVENT
END:VCALENDAR